BEGIN:VCALENDAR
VERSION:2.0
PRODID:-//Gethsemane Baptist Church - ECPv6.15.20//NONSGML v1.0//EN
CALSCALE:GREGORIAN
METHOD:PUBLISH
X-WR-CALNAME:Gethsemane Baptist Church
X-ORIGINAL-URL:https://gbclongbeach.org
X-WR-CALDESC:Events for Gethsemane Baptist Church
REFRESH-INTERVAL;VALUE=DURATION:PT1H
X-Robots-Tag:noindex
X-PUBLISHED-TTL:PT1H
BEGIN:VTIMEZONE
TZID:America/Los_Angeles
BEGIN:DAYLIGHT
TZOFFSETFROM:-0800
TZOFFSETTO:-0700
TZNAME:PDT
DTSTART:20250309T100000
END:DAYLIGHT
BEGIN:STANDARD
TZOFFSETFROM:-0700
TZOFFSETTO:-0800
TZNAME:PST
DTSTART:20251102T090000
END:STANDARD
BEGIN:DAYLIGHT
TZOFFSETFROM:-0800
TZOFFSETTO:-0700
TZNAME:PDT
DTSTART:20260308T100000
END:DAYLIGHT
BEGIN:STANDARD
TZOFFSETFROM:-0700
TZOFFSETTO:-0800
TZNAME:PST
DTSTART:20261101T090000
END:STANDARD
BEGIN:DAYLIGHT
TZOFFSETFROM:-0800
TZOFFSETTO:-0700
TZNAME:PDT
DTSTART:20270314T100000
END:DAYLIGHT
BEGIN:STANDARD
TZOFFSETFROM:-0700
TZOFFSETTO:-0800
TZNAME:PST
DTSTART:20271107T090000
END:STANDARD
END:VTIMEZONE
BEGIN:VEVENT
DTSTART;VALUE=DATE:20260419
DTEND;VALUE=DATE:20260422
DTSTAMP:20260419T055417
CREATED:20250204T184912Z
LAST-MODIFIED:20260308T004013Z
UID:17538-1776556800-1776815999@gbclongbeach.org
SUMMARY:Spring Refresh
DESCRIPTION:Join Us for Spring Refresh! with Pastor Jeremy Kobernat \n\nSunday: Regular service times\nMonday & Tuesday: Service at 7:00 PM\nWednesday: No service\n\nCome be encouraged and refreshed—we look forward to seeing you!
URL:https://gbclongbeach.org/event/spring-refresh
ATTACH;FMTTYPE=image/jpeg:https://gbclongbeach.org/wp-content/uploads/2025/02/Spring-Refresh.jpg
END:VEVENT
END:VCALENDAR